BEGIN:VCALENDAR
VERSION:2.0
PRODID:-//First Presbyterian Church - Greer - ECPv6.15.17.1//NONSGML v1.0//EN
CALSCALE:GREGORIAN
METHOD:PUBLISH
X-WR-CALNAME:First Presbyterian Church - Greer
X-ORIGINAL-URL:https://fpcgreer.org
X-WR-CALDESC:Events for First Presbyterian Church - Greer
REFRESH-INTERVAL;VALUE=DURATION:PT1H
X-Robots-Tag:noindex
X-PUBLISHED-TTL:PT1H
BEGIN:VTIMEZONE
TZID:America/New_York
BEGIN:DAYLIGHT
TZOFFSETFROM:-0500
TZOFFSETTO:-0400
TZNAME:EDT
DTSTART:20220313T070000
END:DAYLIGHT
BEGIN:STANDARD
TZOFFSETFROM:-0400
TZOFFSETTO:-0500
TZNAME:EST
DTSTART:20221106T060000
END:STANDARD
BEGIN:DAYLIGHT
TZOFFSETFROM:-0500
TZOFFSETTO:-0400
TZNAME:EDT
DTSTART:20230312T070000
END:DAYLIGHT
BEGIN:STANDARD
TZOFFSETFROM:-0400
TZOFFSETTO:-0500
TZNAME:EST
DTSTART:20231105T060000
END:STANDARD
BEGIN:DAYLIGHT
TZOFFSETFROM:-0500
TZOFFSETTO:-0400
TZNAME:EDT
DTSTART:20240310T070000
END:DAYLIGHT
BEGIN:STANDARD
TZOFFSETFROM:-0400
TZOFFSETTO:-0500
TZNAME:EST
DTSTART:20241103T060000
END:STANDARD
END:VTIMEZONE
BEGIN:VEVENT
DTSTART;TZID=America/New_York:20230709T100000
DTEND;TZID=America/New_York:20230709T130000
DTSTAMP:20260422T133816
CREATED:20240205T135338Z
LAST-MODIFIED:20240205T135338Z
UID:10018717-1688896800-1688907600@fpcgreer.org
SUMMARY:Safe Place Training - Bill Koehler
DESCRIPTION:
URL:https://fpcgreer.org/event/safe-place-training-bill-koehler-2/
LOCATION:Upstairs Kirk Hall
END:VEVENT
BEGIN:VEVENT
DTSTART;TZID=America/New_York:20230705T150000
DTEND;TZID=America/New_York:20230705T160000
DTSTAMP:20260422T133816
CREATED:20240205T135326Z
LAST-MODIFIED:20240205T135326Z
UID:10018709-1688569200-1688572800@fpcgreer.org
SUMMARY:AA-Only Requirement
DESCRIPTION:
URL:https://fpcgreer.org/event/aa-only-requirement-107/
LOCATION:Upstairs Kirk Hall
END:VEVENT
BEGIN:VEVENT
DTSTART;TZID=America/New_York:20230628T150000
DTEND;TZID=America/New_York:20230628T160000
DTSTAMP:20260422T133816
CREATED:20240205T135302Z
LAST-MODIFIED:20240205T135302Z
UID:10018689-1687964400-1687968000@fpcgreer.org
SUMMARY:AA-Only Requirement
DESCRIPTION:
URL:https://fpcgreer.org/event/aa-only-requirement-103/
LOCATION:Upstairs Kirk Hall
END:VEVENT
BEGIN:VEVENT
DTSTART;TZID=America/New_York:20230625T100000
DTEND;TZID=America/New_York:20230625T170000
DTSTAMP:20260422T133816
CREATED:20240205T135249Z
LAST-MODIFIED:20240205T135249Z
UID:10018680-1687687200-1687712400@fpcgreer.org
SUMMARY:HeartSaver Class
DESCRIPTION:
URL:https://fpcgreer.org/event/heartsaver-class-4/
LOCATION:Upstairs Kirk Hall
END:VEVENT
BEGIN:VEVENT
DTSTART;TZID=America/New_York:20230621T150000
DTEND;TZID=America/New_York:20230621T160000
DTSTAMP:20260422T133816
CREATED:20240205T135237Z
LAST-MODIFIED:20240205T135237Z
UID:10018667-1687359600-1687363200@fpcgreer.org
SUMMARY:AA-Only Requirement
DESCRIPTION:
URL:https://fpcgreer.org/event/aa-only-requirement-99/
LOCATION:Upstairs Kirk Hall
END:VEVENT
BEGIN:VEVENT
DTSTART;TZID=America/New_York:20230618T090000
DTEND;TZID=America/New_York:20230618T150000
DTSTAMP:20260422T133816
CREATED:20240205T135225Z
LAST-MODIFIED:20240205T135225Z
UID:10018655-1687078800-1687100400@fpcgreer.org
SUMMARY:Safe Place Training - Bill Koehler
DESCRIPTION:
URL:https://fpcgreer.org/event/safe-place-training-bill-koehler/
LOCATION:Upstairs Kirk Hall
END:VEVENT
BEGIN:VEVENT
DTSTART;TZID=America/New_York:20230614T150000
DTEND;TZID=America/New_York:20230614T160000
DTSTAMP:20260422T133816
CREATED:20240205T135212Z
LAST-MODIFIED:20240205T135212Z
UID:10018648-1686754800-1686758400@fpcgreer.org
SUMMARY:AA-Only Requirement
DESCRIPTION:
URL:https://fpcgreer.org/event/aa-only-requirement-95/
LOCATION:Upstairs Kirk Hall
END:VEVENT
BEGIN:VEVENT
DTSTART;TZID=America/New_York:20230611T120000
DTEND;TZID=America/New_York:20230611T130000
DTSTAMP:20260422T133816
CREATED:20240205T135200Z
LAST-MODIFIED:20240205T135200Z
UID:10018636-1686484800-1686488400@fpcgreer.org
SUMMARY:Session Meeting
DESCRIPTION:
URL:https://fpcgreer.org/event/session-meeting-5/
LOCATION:Upstairs Kirk Hall
END:VEVENT
BEGIN:VEVENT
DTSTART;TZID=America/New_York:20230607T150000
DTEND;TZID=America/New_York:20230607T160000
DTSTAMP:20260422T133816
CREATED:20240205T135138Z
LAST-MODIFIED:20240205T135138Z
UID:10018621-1686150000-1686153600@fpcgreer.org
SUMMARY:AA-Only Requirement
DESCRIPTION:
URL:https://fpcgreer.org/event/aa-only-requirement-91/
LOCATION:Upstairs Kirk Hall
END:VEVENT
BEGIN:VEVENT
DTSTART;TZID=America/New_York:20230604T100000
DTEND;TZID=America/New_York:20230604T170000
DTSTAMP:20260422T133816
CREATED:20240205T135127Z
LAST-MODIFIED:20240205T135127Z
UID:10018608-1685872800-1685898000@fpcgreer.org
SUMMARY:HeartSaver Class
DESCRIPTION:
URL:https://fpcgreer.org/event/heartsaver-class-3/
LOCATION:Upstairs Kirk Hall
END:VEVENT
BEGIN:VEVENT
DTSTART;TZID=America/New_York:20230531T150000
DTEND;TZID=America/New_York:20230531T160000
DTSTAMP:20260422T133816
CREATED:20240205T135104Z
LAST-MODIFIED:20240205T135104Z
UID:10018594-1685545200-1685548800@fpcgreer.org
SUMMARY:AA-Only Requirement
DESCRIPTION:
URL:https://fpcgreer.org/event/aa-only-requirement-87/
LOCATION:Upstairs Kirk Hall
END:VEVENT
BEGIN:VEVENT
DTSTART;TZID=America/New_York:20230524T150000
DTEND;TZID=America/New_York:20230524T160000
DTSTAMP:20260422T133816
CREATED:20240205T135040Z
LAST-MODIFIED:20240205T135040Z
UID:10018574-1684940400-1684944000@fpcgreer.org
SUMMARY:AA-Only Requirement
DESCRIPTION:
URL:https://fpcgreer.org/event/aa-only-requirement-83/
LOCATION:Upstairs Kirk Hall
END:VEVENT
BEGIN:VEVENT
DTSTART;TZID=America/New_York:20230521T160000
DTEND;TZID=America/New_York:20230521T173000
DTSTAMP:20260422T133816
CREATED:20240205T135028Z
LAST-MODIFIED:20240205T135028Z
UID:10018562-1684684800-1684690200@fpcgreer.org
SUMMARY:Session Meeting
DESCRIPTION:
URL:https://fpcgreer.org/event/session-meeting-4/
LOCATION:Upstairs Kirk Hall
END:VEVENT
BEGIN:VEVENT
DTSTART;TZID=America/New_York:20230521T113000
DTEND;TZID=America/New_York:20230521T153000
DTSTAMP:20260422T133816
CREATED:20240205T135028Z
LAST-MODIFIED:20240205T135028Z
UID:10018559-1684668600-1684683000@fpcgreer.org
SUMMARY:HeartSaver Class
DESCRIPTION:
URL:https://fpcgreer.org/event/heartsaver-class-2/
LOCATION:Upstairs Kirk Hall
END:VEVENT
BEGIN:VEVENT
DTSTART;TZID=America/New_York:20230517T150000
DTEND;TZID=America/New_York:20230517T160000
DTSTAMP:20260422T133816
CREATED:20240205T135005Z
LAST-MODIFIED:20240205T135005Z
UID:10018543-1684335600-1684339200@fpcgreer.org
SUMMARY:AA-Only Requirement
DESCRIPTION:
URL:https://fpcgreer.org/event/aa-only-requirement-79/
LOCATION:Upstairs Kirk Hall
END:VEVENT
BEGIN:VEVENT
DTSTART;TZID=America/New_York:20230510T150000
DTEND;TZID=America/New_York:20230510T160000
DTSTAMP:20260422T133816
CREATED:20240205T134942Z
LAST-MODIFIED:20240205T134942Z
UID:10018523-1683730800-1683734400@fpcgreer.org
SUMMARY:AA-Only Requirement
DESCRIPTION:
URL:https://fpcgreer.org/event/aa-only-requirement-75/
LOCATION:Upstairs Kirk Hall
END:VEVENT
BEGIN:VEVENT
DTSTART;TZID=America/New_York:20230503T150000
DTEND;TZID=America/New_York:20230503T160000
DTSTAMP:20260422T133816
CREATED:20240205T134919Z
LAST-MODIFIED:20240205T134919Z
UID:10018496-1683126000-1683129600@fpcgreer.org
SUMMARY:AA-Only Requirement
DESCRIPTION:
URL:https://fpcgreer.org/event/aa-only-requirement-71/
LOCATION:Upstairs Kirk Hall
END:VEVENT
BEGIN:VEVENT
DTSTART;TZID=America/New_York:20230430T123000
DTEND;TZID=America/New_York:20230430T163000
DTSTAMP:20260422T133816
CREATED:20240205T134906Z
LAST-MODIFIED:20240205T134906Z
UID:10018486-1682857800-1682872200@fpcgreer.org
SUMMARY:Heartsaver Class
DESCRIPTION:
URL:https://fpcgreer.org/event/heartsaver-class/
LOCATION:Upstairs Kirk Hall
END:VEVENT
BEGIN:VEVENT
DTSTART;TZID=America/New_York:20230426T150000
DTEND;TZID=America/New_York:20230426T160000
DTSTAMP:20260422T133816
CREATED:20240205T134843Z
LAST-MODIFIED:20240205T134843Z
UID:10018469-1682521200-1682524800@fpcgreer.org
SUMMARY:AA-Only Requirement
DESCRIPTION:
URL:https://fpcgreer.org/event/aa-only-requirement-67/
LOCATION:Upstairs Kirk Hall
END:VEVENT
BEGIN:VEVENT
DTSTART;TZID=America/New_York:20230424T170000
DTEND;TZID=America/New_York:20230424T180000
DTSTAMP:20260422T133816
CREATED:20240205T134830Z
LAST-MODIFIED:20240205T134830Z
UID:10018464-1682355600-1682359200@fpcgreer.org
SUMMARY:Personnel Committee Meeting
DESCRIPTION:
URL:https://fpcgreer.org/event/personnel-committee-meeting/
LOCATION:Upstairs Kirk Hall
END:VEVENT
BEGIN:VEVENT
DTSTART;TZID=America/New_York:20230419T150000
DTEND;TZID=America/New_York:20230419T160000
DTSTAMP:20260422T133816
CREATED:20240205T134818Z
LAST-MODIFIED:20240205T134818Z
UID:10018446-1681916400-1681920000@fpcgreer.org
SUMMARY:AA-Only Requirement
DESCRIPTION:
URL:https://fpcgreer.org/event/aa-only-requirement-63/
LOCATION:Upstairs Kirk Hall
END:VEVENT
BEGIN:VEVENT
DTSTART;TZID=America/New_York:20230416T160000
DTEND;TZID=America/New_York:20230416T170000
DTSTAMP:20260422T133816
CREATED:20240205T134806Z
LAST-MODIFIED:20240205T134806Z
UID:10018438-1681660800-1681664400@fpcgreer.org
SUMMARY:Session Meeting
DESCRIPTION:
URL:https://fpcgreer.org/event/session-meeting-3/
LOCATION:Upstairs Kirk Hall
END:VEVENT
BEGIN:VEVENT
DTSTART;TZID=America/New_York:20230412T150000
DTEND;TZID=America/New_York:20230412T160000
DTSTAMP:20260422T133816
CREATED:20240205T134743Z
LAST-MODIFIED:20240205T134743Z
UID:10018421-1681311600-1681315200@fpcgreer.org
SUMMARY:AA-Only Requirement
DESCRIPTION:
URL:https://fpcgreer.org/event/aa-only-requirement-59/
LOCATION:Upstairs Kirk Hall
END:VEVENT
BEGIN:VEVENT
DTSTART;TZID=America/New_York:20230405T150000
DTEND;TZID=America/New_York:20230405T160000
DTSTAMP:20260422T133816
CREATED:20240205T134709Z
LAST-MODIFIED:20240205T134709Z
UID:10018393-1680706800-1680710400@fpcgreer.org
SUMMARY:AA-Only Requirement
DESCRIPTION:
URL:https://fpcgreer.org/event/aa-only-requirement-55/
LOCATION:Upstairs Kirk Hall
END:VEVENT
BEGIN:VEVENT
DTSTART;TZID=America/New_York:20230329T150000
DTEND;TZID=America/New_York:20230329T160000
DTSTAMP:20260422T133816
CREATED:20240205T134647Z
LAST-MODIFIED:20240205T134647Z
UID:10018365-1680102000-1680105600@fpcgreer.org
SUMMARY:AA-Only Requirement
DESCRIPTION:
URL:https://fpcgreer.org/event/aa-only-requirement-51/
LOCATION:Upstairs Kirk Hall
END:VEVENT
BEGIN:VEVENT
DTSTART;TZID=America/New_York:20230322T150000
DTEND;TZID=America/New_York:20230322T160000
DTSTAMP:20260422T133816
CREATED:20240205T134613Z
LAST-MODIFIED:20240205T134613Z
UID:10018344-1679497200-1679500800@fpcgreer.org
SUMMARY:AA-Only Requirement
DESCRIPTION:
URL:https://fpcgreer.org/event/aa-only-requirement-47/
LOCATION:Upstairs Kirk Hall
END:VEVENT
BEGIN:VEVENT
DTSTART;TZID=America/New_York:20230315T150000
DTEND;TZID=America/New_York:20230315T160000
DTSTAMP:20260422T133816
CREATED:20240205T134550Z
LAST-MODIFIED:20240205T134550Z
UID:10018323-1678892400-1678896000@fpcgreer.org
SUMMARY:AA-Only Requirement
DESCRIPTION:
URL:https://fpcgreer.org/event/aa-only-requirement-43/
LOCATION:Upstairs Kirk Hall
END:VEVENT
BEGIN:VEVENT
DTSTART;TZID=America/New_York:20230312T160000
DTEND;TZID=America/New_York:20230312T170000
DTSTAMP:20260422T133816
CREATED:20240205T134538Z
LAST-MODIFIED:20240205T134538Z
UID:10018312-1678636800-1678640400@fpcgreer.org
SUMMARY:Session Meeting
DESCRIPTION:
URL:https://fpcgreer.org/event/session-meeting-2/
LOCATION:Upstairs Kirk Hall
END:VEVENT
BEGIN:VEVENT
DTSTART;TZID=America/New_York:20230308T150000
DTEND;TZID=America/New_York:20230308T160000
DTSTAMP:20260422T133816
CREATED:20240205T134515Z
LAST-MODIFIED:20240205T134515Z
UID:10018293-1678287600-1678291200@fpcgreer.org
SUMMARY:AA-Only Requirement
DESCRIPTION:
URL:https://fpcgreer.org/event/aa-only-requirement-39/
LOCATION:Upstairs Kirk Hall
END:VEVENT
BEGIN:VEVENT
DTSTART;TZID=America/New_York:20230301T150000
DTEND;TZID=America/New_York:20230301T160000
DTSTAMP:20260422T133816
CREATED:20240205T134453Z
LAST-MODIFIED:20240205T134453Z
UID:10018265-1677682800-1677686400@fpcgreer.org
SUMMARY:AA-Only Requirement
DESCRIPTION:
URL:https://fpcgreer.org/event/aa-only-requirement-35/
LOCATION:Upstairs Kirk Hall
END:VEVENT
END:VCALENDAR