BEGIN:VCALENDAR
VERSION:2.0
PRODID:-//First Presbyterian Church - Greer - ECPv6.15.17.1//NONSGML v1.0//EN
CALSCALE:GREGORIAN
METHOD:PUBLISH
X-WR-CALNAME:First Presbyterian Church - Greer
X-ORIGINAL-URL:https://fpcgreer.org
X-WR-CALDESC:Events for First Presbyterian Church - Greer
REFRESH-INTERVAL;VALUE=DURATION:PT1H
X-Robots-Tag:noindex
X-PUBLISHED-TTL:PT1H
BEGIN:VTIMEZONE
TZID:America/New_York
BEGIN:DAYLIGHT
TZOFFSETFROM:-0500
TZOFFSETTO:-0400
TZNAME:EDT
DTSTART:20220313T070000
END:DAYLIGHT
BEGIN:STANDARD
TZOFFSETFROM:-0400
TZOFFSETTO:-0500
TZNAME:EST
DTSTART:20221106T060000
END:STANDARD
BEGIN:DAYLIGHT
TZOFFSETFROM:-0500
TZOFFSETTO:-0400
TZNAME:EDT
DTSTART:20230312T070000
END:DAYLIGHT
BEGIN:STANDARD
TZOFFSETFROM:-0400
TZOFFSETTO:-0500
TZNAME:EST
DTSTART:20231105T060000
END:STANDARD
BEGIN:DAYLIGHT
TZOFFSETFROM:-0500
TZOFFSETTO:-0400
TZNAME:EDT
DTSTART:20240310T070000
END:DAYLIGHT
BEGIN:STANDARD
TZOFFSETFROM:-0400
TZOFFSETTO:-0500
TZNAME:EST
DTSTART:20241103T060000
END:STANDARD
BEGIN:DAYLIGHT
TZOFFSETFROM:-0500
TZOFFSETTO:-0400
TZNAME:EDT
DTSTART:20250309T070000
END:DAYLIGHT
BEGIN:STANDARD
TZOFFSETFROM:-0400
TZOFFSETTO:-0500
TZNAME:EST
DTSTART:20251102T060000
END:STANDARD
BEGIN:DAYLIGHT
TZOFFSETFROM:-0500
TZOFFSETTO:-0400
TZNAME:EDT
DTSTART:20260308T070000
END:DAYLIGHT
BEGIN:STANDARD
TZOFFSETFROM:-0400
TZOFFSETTO:-0500
TZNAME:EST
DTSTART:20261101T060000
END:STANDARD
END:VTIMEZONE
BEGIN:VEVENT
DTSTART;TZID=America/New_York:20250323T160000
DTEND;TZID=America/New_York:20250323T170000
DTSTAMP:20260422T053106
CREATED:20250226T120707Z
LAST-MODIFIED:20250226T120707Z
UID:10027871-1742745600-1742749200@fpcgreer.org
SUMMARY:Mental Health Conversations - Part 2
DESCRIPTION:
URL:https://fpcgreer.org/event/mental-health-conversations-part-2-2/
LOCATION:Upstairs Kirk Hall
END:VEVENT
BEGIN:VEVENT
DTSTART;TZID=America/New_York:20250316T160000
DTEND;TZID=America/New_York:20250316T170000
DTSTAMP:20260422T053106
CREATED:20250226T120627Z
LAST-MODIFIED:20250226T120627Z
UID:10027868-1742140800-1742144400@fpcgreer.org
SUMMARY:Mental Health Conversations - Part 2
DESCRIPTION:
URL:https://fpcgreer.org/event/mental-health-conversations-part-2/
LOCATION:Upstairs Kirk Hall
END:VEVENT
BEGIN:VEVENT
DTSTART;TZID=America/New_York:20250309T160000
DTEND;TZID=America/New_York:20250309T170000
DTSTAMP:20260422T053106
CREATED:20250129T170718Z
LAST-MODIFIED:20250129T170718Z
UID:10027373-1741536000-1741539600@fpcgreer.org
SUMMARY:Session Meeting
DESCRIPTION:
URL:https://fpcgreer.org/event/session-meeting-21/
LOCATION:Upstairs Kirk Hall
END:VEVENT
BEGIN:VEVENT
DTSTART;TZID=America/New_York:20250218T143000
DTEND;TZID=America/New_York:20250218T183000
DTSTAMP:20260422T053106
CREATED:20250128T151711Z
LAST-MODIFIED:20250128T151711Z
UID:10025716-1739889000-1739903400@fpcgreer.org
SUMMARY:Primrose Garden Club
DESCRIPTION:
URL:https://fpcgreer.org/event/primrose-garden-club/
LOCATION:Upstairs Kirk Hall
END:VEVENT
BEGIN:VEVENT
DTSTART;TZID=America/New_York:20250216T160000
DTEND;TZID=America/New_York:20250216T170000
DTSTAMP:20260422T053106
CREATED:20250129T170610Z
LAST-MODIFIED:20250129T170610Z
UID:10027370-1739721600-1739725200@fpcgreer.org
SUMMARY:Session Meeting
DESCRIPTION:
URL:https://fpcgreer.org/event/session-meeting-20/
LOCATION:Upstairs Kirk Hall
END:VEVENT
BEGIN:VEVENT
DTSTART;TZID=America/New_York:20241117T160000
DTEND;TZID=America/New_York:20241117T170000
DTSTAMP:20260422T053106
CREATED:20240222T000833Z
LAST-MODIFIED:20240222T000833Z
UID:10020031-1731859200-1731862800@fpcgreer.org
SUMMARY:Session Meeting
DESCRIPTION:
URL:https://fpcgreer.org/event/session-meeting-19/
LOCATION:Upstairs Kirk Hall
END:VEVENT
BEGIN:VEVENT
DTSTART;TZID=America/New_York:20241019T110000
DTEND;TZID=America/New_York:20241019T140000
DTSTAMP:20260422T053106
CREATED:20240917T232830Z
LAST-MODIFIED:20240917T232830Z
UID:10022579-1729335600-1729346400@fpcgreer.org
SUMMARY:Foothills Presbytery Pastors' Luncheon
DESCRIPTION:
URL:https://fpcgreer.org/event/foothills-presbytery-pastors-luncheon/
LOCATION:Upstairs Kirk Hall
END:VEVENT
BEGIN:VEVENT
DTSTART;TZID=America/New_York:20241015T123000
DTEND;TZID=America/New_York:20241015T170000
DTSTAMP:20260422T053106
CREATED:20241002T215835Z
LAST-MODIFIED:20241002T215835Z
UID:10023055-1728995400-1729011600@fpcgreer.org
SUMMARY:Garden Club Meeting - Abbie McWilliams
DESCRIPTION:
URL:https://fpcgreer.org/event/garden-club-meeting-abbie-mcwilliams/
LOCATION:Upstairs Kirk Hall
END:VEVENT
BEGIN:VEVENT
DTSTART;TZID=America/New_York:20241013T160000
DTEND;TZID=America/New_York:20241013T170000
DTSTAMP:20260422T053106
CREATED:20240222T000736Z
LAST-MODIFIED:20240222T000736Z
UID:10020030-1728835200-1728838800@fpcgreer.org
SUMMARY:Session Meeting
DESCRIPTION:
URL:https://fpcgreer.org/event/session-meeting-18/
LOCATION:Upstairs Kirk Hall
END:VEVENT
BEGIN:VEVENT
DTSTART;TZID=America/New_York:20240915T160000
DTEND;TZID=America/New_York:20240915T170000
DTSTAMP:20260422T053106
CREATED:20240222T000639Z
LAST-MODIFIED:20240222T000639Z
UID:10020029-1726416000-1726419600@fpcgreer.org
SUMMARY:Session Meeting
DESCRIPTION:
URL:https://fpcgreer.org/event/session-meeting-17/
LOCATION:Upstairs Kirk Hall
END:VEVENT
BEGIN:VEVENT
DTSTART;TZID=America/New_York:20240811T160000
DTEND;TZID=America/New_York:20240811T170000
DTSTAMP:20260422T053106
CREATED:20240222T000529Z
LAST-MODIFIED:20240222T000529Z
UID:10020028-1723392000-1723395600@fpcgreer.org
SUMMARY:Session Meeting
DESCRIPTION:
URL:https://fpcgreer.org/event/session-meeting-16/
LOCATION:Upstairs Kirk Hall
END:VEVENT
BEGIN:VEVENT
DTSTART;TZID=America/New_York:20240630T160000
DTEND;TZID=America/New_York:20240630T170000
DTSTAMP:20260422T053106
CREATED:20240529T000540Z
LAST-MODIFIED:20240529T000540Z
UID:10021220-1719763200-1719766800@fpcgreer.org
SUMMARY:Mental Health Class
DESCRIPTION:
URL:https://fpcgreer.org/event/mental-health-class-5/
LOCATION:Upstairs Kirk Hall
END:VEVENT
BEGIN:VEVENT
DTSTART;TZID=America/New_York:20240623T160000
DTEND;TZID=America/New_York:20240623T170000
DTSTAMP:20260422T053106
CREATED:20240529T000529Z
LAST-MODIFIED:20240529T000529Z
UID:10021219-1719158400-1719162000@fpcgreer.org
SUMMARY:Mental Health Class
DESCRIPTION:
URL:https://fpcgreer.org/event/mental-health-class-4/
LOCATION:Upstairs Kirk Hall
END:VEVENT
BEGIN:VEVENT
DTSTART;TZID=America/New_York:20240616T160000
DTEND;TZID=America/New_York:20240616T170000
DTSTAMP:20260422T053106
CREATED:20240529T000507Z
LAST-MODIFIED:20240529T000507Z
UID:10021218-1718553600-1718557200@fpcgreer.org
SUMMARY:Mental Health Class
DESCRIPTION:
URL:https://fpcgreer.org/event/mental-health-class-3/
LOCATION:Upstairs Kirk Hall
END:VEVENT
BEGIN:VEVENT
DTSTART;TZID=America/New_York:20240609T160000
DTEND;TZID=America/New_York:20240609T170000
DTSTAMP:20260422T053106
CREATED:20240222T000332Z
LAST-MODIFIED:20240222T000332Z
UID:10020027-1717948800-1717952400@fpcgreer.org
SUMMARY:Session Meeting
DESCRIPTION:
URL:https://fpcgreer.org/event/session-meeting-15/
LOCATION:Upstairs Kirk Hall
END:VEVENT
BEGIN:VEVENT
DTSTART;TZID=America/New_York:20240609T150000
DTEND;TZID=America/New_York:20240609T160000
DTSTAMP:20260422T053106
CREATED:20240529T000445Z
LAST-MODIFIED:20240529T000445Z
UID:10021217-1717945200-1717948800@fpcgreer.org
SUMMARY:Mental Health Class
DESCRIPTION:
URL:https://fpcgreer.org/event/mental-health-class-2/
LOCATION:Upstairs Kirk Hall
END:VEVENT
BEGIN:VEVENT
DTSTART;TZID=America/New_York:20240602T160000
DTEND;TZID=America/New_York:20240602T170000
DTSTAMP:20260422T053106
CREATED:20240529T000422Z
LAST-MODIFIED:20240529T000422Z
UID:10021216-1717344000-1717347600@fpcgreer.org
SUMMARY:Mental Health Class
DESCRIPTION:
URL:https://fpcgreer.org/event/mental-health-class/
LOCATION:Upstairs Kirk Hall
END:VEVENT
BEGIN:VEVENT
DTSTART;TZID=America/New_York:20240519T160000
DTEND;TZID=America/New_York:20240519T170000
DTSTAMP:20260422T053106
CREATED:20240222T000244Z
LAST-MODIFIED:20240222T000244Z
UID:10020026-1716134400-1716138000@fpcgreer.org
SUMMARY:Session Meeting
DESCRIPTION:
URL:https://fpcgreer.org/event/session-meeting-14/
LOCATION:Upstairs Kirk Hall
END:VEVENT
BEGIN:VEVENT
DTSTART;TZID=America/New_York:20240414T160000
DTEND;TZID=America/New_York:20240414T170000
DTSTAMP:20260422T053106
CREATED:20240222T000123Z
LAST-MODIFIED:20240222T000123Z
UID:10020025-1713110400-1713114000@fpcgreer.org
SUMMARY:Session Meeting
DESCRIPTION:
URL:https://fpcgreer.org/event/session-meeting-13/
LOCATION:Upstairs Kirk Hall
END:VEVENT
BEGIN:VEVENT
DTSTART;TZID=America/New_York:20240319T130000
DTEND;TZID=America/New_York:20240319T173000
DTSTAMP:20260422T053106
CREATED:20240304T210040Z
LAST-MODIFIED:20240304T210040Z
UID:10020245-1710853200-1710869400@fpcgreer.org
SUMMARY:Abbie McWilliams- Garden Club Meeting
DESCRIPTION:
URL:https://fpcgreer.org/event/abbie-mcwilliams-garden-club-meeting/
LOCATION:Upstairs Kirk Hall
END:VEVENT
BEGIN:VEVENT
DTSTART;TZID=America/New_York:20240310T160000
DTEND;TZID=America/New_York:20240310T170000
DTSTAMP:20260422T053106
CREATED:20240221T235941Z
LAST-MODIFIED:20240221T235941Z
UID:10020024-1710086400-1710090000@fpcgreer.org
SUMMARY:Session Meeting
DESCRIPTION:
URL:https://fpcgreer.org/event/session-meeting-12/
LOCATION:Upstairs Kirk Hall
END:VEVENT
BEGIN:VEVENT
DTSTART;TZID=America/New_York:20240201T093000
DTEND;TZID=America/New_York:20240201T143000
DTSTAMP:20260422T053106
CREATED:20240205T140424Z
LAST-MODIFIED:20240205T140424Z
UID:10019282-1706779800-1706797800@fpcgreer.org
SUMMARY:DAR Meeting - Charlotte Koehler
DESCRIPTION:
URL:https://fpcgreer.org/event/dar-meeting-charlotte-koehler-2/
LOCATION:Upstairs Kirk Hall
END:VEVENT
BEGIN:VEVENT
DTSTART;TZID=America/New_York:20240114T160000
DTEND;TZID=America/New_York:20240114T170000
DTSTAMP:20260422T053106
CREATED:20240205T140325Z
LAST-MODIFIED:20240205T140325Z
UID:10019229-1705248000-1705251600@fpcgreer.org
SUMMARY:Session Meeting
DESCRIPTION:
URL:https://fpcgreer.org/event/session-meeting-10/
LOCATION:Upstairs Kirk Hall
END:VEVENT
BEGIN:VEVENT
DTSTART;TZID=America/New_York:20231227T150000
DTEND;TZID=America/New_York:20231227T160000
DTSTAMP:20260422T053106
CREATED:20240205T140238Z
LAST-MODIFIED:20240205T140238Z
UID:10019188-1703689200-1703692800@fpcgreer.org
SUMMARY:AA-Only Requirement
DESCRIPTION:
URL:https://fpcgreer.org/event/aa-only-requirement-207/
LOCATION:Upstairs Kirk Hall
END:VEVENT
BEGIN:VEVENT
DTSTART;TZID=America/New_York:20231220T150000
DTEND;TZID=America/New_York:20231220T160000
DTSTAMP:20260422T053106
CREATED:20240205T140214Z
LAST-MODIFIED:20240205T140214Z
UID:10019172-1703084400-1703088000@fpcgreer.org
SUMMARY:AA-Only Requirement
DESCRIPTION:
URL:https://fpcgreer.org/event/aa-only-requirement-203/
LOCATION:Upstairs Kirk Hall
END:VEVENT
BEGIN:VEVENT
DTSTART;TZID=America/New_York:20231213T150000
DTEND;TZID=America/New_York:20231213T160000
DTSTAMP:20260422T053106
CREATED:20240205T140151Z
LAST-MODIFIED:20240205T140151Z
UID:10019154-1702479600-1702483200@fpcgreer.org
SUMMARY:AA-Only Requirement
DESCRIPTION:
URL:https://fpcgreer.org/event/aa-only-requirement-199/
LOCATION:Upstairs Kirk Hall
END:VEVENT
BEGIN:VEVENT
DTSTART;TZID=America/New_York:20231206T150000
DTEND;TZID=America/New_York:20231206T160000
DTSTAMP:20260422T053106
CREATED:20240205T140128Z
LAST-MODIFIED:20240205T140128Z
UID:10019132-1701874800-1701878400@fpcgreer.org
SUMMARY:AA-Only Requirement
DESCRIPTION:
URL:https://fpcgreer.org/event/aa-only-requirement-195/
LOCATION:Upstairs Kirk Hall
END:VEVENT
BEGIN:VEVENT
DTSTART;TZID=America/New_York:20231129T150000
DTEND;TZID=America/New_York:20231129T160000
DTSTAMP:20260422T053106
CREATED:20240205T140105Z
LAST-MODIFIED:20240205T140105Z
UID:10019109-1701270000-1701273600@fpcgreer.org
SUMMARY:AA-Only Requirement
DESCRIPTION:
URL:https://fpcgreer.org/event/aa-only-requirement-191/
LOCATION:Upstairs Kirk Hall
END:VEVENT
BEGIN:VEVENT
DTSTART;TZID=America/New_York:20231122T150000
DTEND;TZID=America/New_York:20231122T160000
DTSTAMP:20260422T053106
CREATED:20240205T140043Z
LAST-MODIFIED:20240205T140043Z
UID:10019094-1700665200-1700668800@fpcgreer.org
SUMMARY:AA-Only Requirement
DESCRIPTION:
URL:https://fpcgreer.org/event/aa-only-requirement-187/
LOCATION:Upstairs Kirk Hall
END:VEVENT
BEGIN:VEVENT
DTSTART;TZID=America/New_York:20231115T150000
DTEND;TZID=America/New_York:20231115T160000
DTSTAMP:20260422T053106
CREATED:20240205T140032Z
LAST-MODIFIED:20240205T140032Z
UID:10019076-1700060400-1700064000@fpcgreer.org
SUMMARY:AA-Only Requirement
DESCRIPTION:
URL:https://fpcgreer.org/event/aa-only-requirement-183/
LOCATION:Upstairs Kirk Hall
END:VEVENT
END:VCALENDAR