BEGIN:VCALENDAR
VERSION:2.0
PRODID:-//First Presbyterian Church - Greer - ECPv6.15.17.1//NONSGML v1.0//EN
CALSCALE:GREGORIAN
METHOD:PUBLISH
X-WR-CALNAME:First Presbyterian Church - Greer
X-ORIGINAL-URL:https://fpcgreer.org
X-WR-CALDESC:Events for First Presbyterian Church - Greer
REFRESH-INTERVAL;VALUE=DURATION:PT1H
X-Robots-Tag:noindex
X-PUBLISHED-TTL:PT1H
BEGIN:VTIMEZONE
TZID:America/New_York
BEGIN:DAYLIGHT
TZOFFSETFROM:-0500
TZOFFSETTO:-0400
TZNAME:EDT
DTSTART:20220313T070000
END:DAYLIGHT
BEGIN:STANDARD
TZOFFSETFROM:-0400
TZOFFSETTO:-0500
TZNAME:EST
DTSTART:20221106T060000
END:STANDARD
BEGIN:DAYLIGHT
TZOFFSETFROM:-0500
TZOFFSETTO:-0400
TZNAME:EDT
DTSTART:20230312T070000
END:DAYLIGHT
BEGIN:STANDARD
TZOFFSETFROM:-0400
TZOFFSETTO:-0500
TZNAME:EST
DTSTART:20231105T060000
END:STANDARD
BEGIN:DAYLIGHT
TZOFFSETFROM:-0500
TZOFFSETTO:-0400
TZNAME:EDT
DTSTART:20240310T070000
END:DAYLIGHT
BEGIN:STANDARD
TZOFFSETFROM:-0400
TZOFFSETTO:-0500
TZNAME:EST
DTSTART:20241103T060000
END:STANDARD
END:VTIMEZONE
BEGIN:VEVENT
DTSTART;TZID=America/New_York:20230118T150000
DTEND;TZID=America/New_York:20230118T160000
DTSTAMP:20260422T180608
CREATED:20240205T134202Z
LAST-MODIFIED:20240205T134202Z
UID:10018116-1674054000-1674057600@fpcgreer.org
SUMMARY:AA-Only Requirement
DESCRIPTION:
URL:https://fpcgreer.org/event/aa-only-requirement-11/
LOCATION:Upstairs Kirk Hall
END:VEVENT
BEGIN:VEVENT
DTSTART;TZID=America/New_York:20230111T150000
DTEND;TZID=America/New_York:20230111T160000
DTSTAMP:20260422T180608
CREATED:20240205T134139Z
LAST-MODIFIED:20240205T134139Z
UID:10018096-1673449200-1673452800@fpcgreer.org
SUMMARY:AA-Only Requirement
DESCRIPTION:
URL:https://fpcgreer.org/event/aa-only-requirement-7/
LOCATION:Upstairs Kirk Hall
END:VEVENT
BEGIN:VEVENT
DTSTART;TZID=America/New_York:20230104T150000
DTEND;TZID=America/New_York:20230104T160000
DTSTAMP:20260422T180608
CREATED:20240205T134104Z
LAST-MODIFIED:20240205T134104Z
UID:10018072-1672844400-1672848000@fpcgreer.org
SUMMARY:AA-Only Requirement
DESCRIPTION:
URL:https://fpcgreer.org/event/aa-only-requirement-3/
LOCATION:Upstairs Kirk Hall
END:VEVENT
END:VCALENDAR